Workbook
Name ch_x: OFFSET(_Engine!$AL$61,0,0,_Engine!$B$35,1)
Name ch_b: OFFSET(_Engine!$AM$61,0,0,_Engine!$B$35,1)

Sheet Calculator
B2: NEEDTHESEAPPS.COM
B3: Debt Payoff Calculator
B4: When will you be debt-free, and what will it cost you?
B5: Open the full calculator online ↗
B7: YOUR DEBTS (used by both questions)
B8: Currency symbol you use | C8: $ | D8: Type the symbol you use: $, £, €, ₪ ...
B9: Debt (name, optional) | C9: Amount you owe | D9: Interest rate (per year) | E9: What you pay each month | F9: One row per debt, up to five.
B10: Debt 1 | C10: 5000 | D10: 12 | E10: 150 | F10: Example: change to your numbers
F11: Leave empty if you have no more debts
B15: First payment month | C15: 46327 | D15: An example month. Type the month of your first payment. It never changes by itself.
B16: ="Edit the blue cells. Not sure of a rate? Your statement may call it APR. Credit cards are often about 22%. Amounts are shown in "&$C$8&"."
B18: QUESTION 1: When will I be debt-free, and what will it cost me?
B19: Extra you can add each month (optional) | C19: 0 | D19: On top of what you already pay. It goes to your highest-rate debt first.
B20: One-time extra payment (optional) | C20: 0 | D20: A tax refund, a bonus, a gift. It goes to your highest-rate debt first.
B21: Paid with payment number | C21: 1 | D21: 1 = with your first payment, 13 = a year later.
B22: Smallest minimum payment | C22: 25 | D22: Used only for the "minimum only" line below. A common card rule is 25.
B23: =CHOOSE(_Engine!$B$20+1,"Enter a debt above","Fill in the rate and the payment of each debt","Debt-free in "&TEXT(_Engine!$B$18,"mmmm yyyy"),"Not yet")
B24: =IF(_Engine!$B$20=2,"You owe "&$C$8&TEXT(_Engine!$B$12,"#,##0")&IF(_Engine!$B$2>1," on "&_Engine!$B$2&" debts","")&" and pay "&$C$8&TEXT(_Engine!$B$13+_Engine!$B$6,"#,##0")&" a month"&IF(_Engine!$B$6>0," (the "&$C$8&TEXT(_Engine!$B$13,"#,##0")&" you pay now + "&$C$8&TEXT(_Engine!$B$6,"#,##0")&" extra)","")&IF(_Engine!$B$7>0,", plus a one-time "&$C$8&TEXT(_Engine!$B$7,"#,##0")&" with payment "&_Engine!$B$8,"")&". All your debts are gone in "&_Engine!$B$19&", after "&_Engine!$B$15&IF(_Engine!$B$15=1," payment."," payments.")&" Interest: "&$C$8&TEXT(_Engine!$B$16,"#,##0")&". Total you pay: "&$C$8&TEXT(_Engine!$B$17,"#,##0")&".",IF(_Engine!$B$20=3,IF(_Engine!$B$23<=_Engine!$B$24,"At "&$C$8&TEXT(_Engine!$B$23,"#,##0")&" a month, "&_Engine!$B$22&IF(_Engine!$B$23<_Engine!$B$24," grows every month."," never goes down.")&" Its interest is "&$C$8&TEXT(_Engine!$B$24,"#,##0")&" a month. Pay more than that to start it moving, or use question 2 to see what clears it in time.","At "&$C$8&TEXT(_Engine!$B$23,"#,##0")&" a month, "&_Engine!$B$22&" takes more than 100 years to pay off. Pay a little more, or use question 2 to see what clears it in time."),""))
B25: Debt | C25: Per month | D25: Done by | E25: Interest | F25: Total paid
B26: =IF(_Engine!$D$41=1,_Engine!$E$41,"") | C26: =IF(AND(_Engine!$B$20>=2,_Engine!$D$41=1),_Engine!$H$41,"") | D26: =IF(AND(_Engine!$B$20>=2,_Engine!$D$41=1),IF(_Engine!$L$41=-1,"Not yet",TEXT(EDATE(_Engine!$B$5,_Engine!$L$41-1),"mmm yyyy")),"") | E26: =IF(AND(_Engine!$B$20>=2,_Engine!$D$41=1),IF(_Engine!$L$41=-1,"–",ROUND(_Engine!$M$41,0)),"") | F26: =IF(AND(_Engine!$B$20>=2,_Engine!$D$41=1),IF(_Engine!$L$41=-1,"–",ROUND(_Engine!$N$41,0)),"")
B27: =IF(_Engine!$D$42=1,_Engine!$E$42,"") | C27: =IF(AND(_Engine!$B$20>=2,_Engine!$D$42=1),_Engine!$H$42,"") | D27: =IF(AND(_Engine!$B$20>=2,_Engine!$D$42=1),IF(_Engine!$L$42=-1,"Not yet",TEXT(EDATE(_Engine!$B$5,_Engine!$L$42-1),"mmm yyyy")),"") | E27: =IF(AND(_Engine!$B$20>=2,_Engine!$D$42=1),IF(_Engine!$L$42=-1,"–",ROUND(_Engine!$M$42,0)),"") | F27: =IF(AND(_Engine!$B$20>=2,_Engine!$D$42=1),IF(_Engine!$L$42=-1,"–",ROUND(_Engine!$N$42,0)),"")
B28: =IF(_Engine!$D$43=1,_Engine!$E$43,"") | C28: =IF(AND(_Engine!$B$20>=2,_Engine!$D$43=1),_Engine!$H$43,"") | D28: =IF(AND(_Engine!$B$20>=2,_Engine!$D$43=1),IF(_Engine!$L$43=-1,"Not yet",TEXT(EDATE(_Engine!$B$5,_Engine!$L$43-1),"mmm yyyy")),"") | E28: =IF(AND(_Engine!$B$20>=2,_Engine!$D$43=1),IF(_Engine!$L$43=-1,"–",ROUND(_Engine!$M$43,0)),"") | F28: =IF(AND(_Engine!$B$20>=2,_Engine!$D$43=1),IF(_Engine!$L$43=-1,"–",ROUND(_Engine!$N$43,0)),"")
B29: =IF(_Engine!$D$44=1,_Engine!$E$44,"") | C29: =IF(AND(_Engine!$B$20>=2,_Engine!$D$44=1),_Engine!$H$44,"") | D29: =IF(AND(_Engine!$B$20>=2,_Engine!$D$44=1),IF(_Engine!$L$44=-1,"Not yet",TEXT(EDATE(_Engine!$B$5,_Engine!$L$44-1),"mmm yyyy")),"") | E29: =IF(AND(_Engine!$B$20>=2,_Engine!$D$44=1),IF(_Engine!$L$44=-1,"–",ROUND(_Engine!$M$44,0)),"") | F29: =IF(AND(_Engine!$B$20>=2,_Engine!$D$44=1),IF(_Engine!$L$44=-1,"–",ROUND(_Engine!$N$44,0)),"")
B30: =IF(_Engine!$D$45=1,_Engine!$E$45,"") | C30: =IF(AND(_Engine!$B$20>=2,_Engine!$D$45=1),_Engine!$H$45,"") | D30: =IF(AND(_Engine!$B$20>=2,_Engine!$D$45=1),IF(_Engine!$L$45=-1,"Not yet",TEXT(EDATE(_Engine!$B$5,_Engine!$L$45-1),"mmm yyyy")),"") | E30: =IF(AND(_Engine!$B$20>=2,_Engine!$D$45=1),IF(_Engine!$L$45=-1,"–",ROUND(_Engine!$M$45,0)),"") | F30: =IF(AND(_Engine!$B$20>=2,_Engine!$D$45=1),IF(_Engine!$L$45=-1,"–",ROUND(_Engine!$N$45,0)),"")
B31: =IF(_Engine!$B$20>=2,"All debts","") | C31: =IF(_Engine!$B$20>=2,_Engine!$B$13,"") | D31: =IF(_Engine!$B$20>=2,IF(_Engine!$B$20=2,TEXT(_Engine!$B$18,"mmm yyyy"),"Not yet"),"") | E31: =IF(_Engine!$B$20>=2,IF(_Engine!$B$20=2,ROUND(_Engine!$B$16,0),"–"),"") | F31: =IF(_Engine!$B$20>=2,IF(_Engine!$B$20=2,ROUND(_Engine!$B$17,0),"–"),"")
B32: =IF(_Engine!$B$20<2,"","Paying only the minimum (1% of the balance plus the month's interest, at least "&$C$8&TEXT(_Engine!$B$9,"#,##0")&") would take "&IF(_Engine!$B$25=1,"more than 100 years",_Engine!$B$28&" and cost "&$C$8&TEXT(_Engine!$B$27,"#,##0")&" in interest")&".")
B33: Each debt is paid with its own monthly payment. Extra goes to your highest-rate debt first, then to the next. Interest each month is the yearly rate ÷ 12, on what you still owe. Rates stay the same and nothing new is added: the same rules as the online calculator.
B35: QUESTION 2: I want to be debt-free in a set time. How much a month?
B36: Debt-free in (years) | C36: 3 | D36: A whole number of years, 1 to 30. It uses your debts above.
B37: =IF(_Engine!$B$2=0,"Enter a debt above",IF(_Engine!$B$3>0,"Fill in the rate and the payment of each debt","Pay "&$C$8&TEXT(_Engine!$B$29,"#,##0")&" a month in total"))
B38: =IF(AND(_Engine!$B$2>0,_Engine!$B$3=0),"To be debt-free in "&$C$36&IF($C$36=1," year"," years")&", by "&TEXT(_Engine!$B$33,"mmmm yyyy")&", pay "&$C$8&TEXT(_Engine!$B$29,"#,##0")&" a month in total. "&IF(_Engine!$B$34>0,"That is "&$C$8&TEXT(_Engine!$B$34,"#,##0")&" more than the "&$C$8&TEXT(_Engine!$B$13,"#,##0")&" you pay now.",IF(_Engine!$B$34<0,"That is "&$C$8&TEXT(-_Engine!$B$34,"#,##0")&" less than the "&$C$8&TEXT(_Engine!$B$13,"#,##0")&" you pay now.","That is what you pay now."))&" Interest: "&$C$8&TEXT(_Engine!$B$30,"#,##0")&". Total you pay: "&$C$8&TEXT(_Engine!$B$31,"#,##0")&".","")
B39: Debt | C39: Per month | D39: Done by | E39: Interest | F39: Total paid
B40: =IF(_Engine!$D$41=1,_Engine!$E$41,"") | C40: =IF(AND(AND(_Engine!$B$2>0,_Engine!$B$3=0),_Engine!$D$41=1),_Engine!$O$41,"") | D40: =IF(AND(AND(_Engine!$B$2>0,_Engine!$B$3=0),_Engine!$D$41=1),TEXT(EDATE(_Engine!$B$5,_Engine!$P$41-1),"mmm yyyy"),"") | E40: =IF(AND(AND(_Engine!$B$2>0,_Engine!$B$3=0),_Engine!$D$41=1),ROUND(_Engine!$R$41,0),"") | F40: =IF(AND(AND(_Engine!$B$2>0,_Engine!$B$3=0),_Engine!$D$41=1),ROUND(_Engine!$Q$41,0),"")
B41: =IF(_Engine!$D$42=1,_Engine!$E$42,"") | C41: =IF(AND(AND(_Engine!$B$2>0,_Engine!$B$3=0),_Engine!$D$42=1),_Engine!$O$42,"") | D41: =IF(AND(AND(_Engine!$B$2>0,_Engine!$B$3=0),_Engine!$D$42=1),TEXT(EDATE(_Engine!$B$5,_Engine!$P$42-1),"mmm yyyy"),"") | E41: =IF(AND(AND(_Engine!$B$2>0,_Engine!$B$3=0),_Engine!$D$42=1),ROUND(_Engine!$R$42,0),"") | F41: =IF(AND(AND(_Engine!$B$2>0,_Engine!$B$3=0),_Engine!$D$42=1),ROUND(_Engine!$Q$42,0),"")
B42: =IF(_Engine!$D$43=1,_Engine!$E$43,"") | C42: =IF(AND(AND(_Engine!$B$2>0,_Engine!$B$3=0),_Engine!$D$43=1),_Engine!$O$43,"") | D42: =IF(AND(AND(_Engine!$B$2>0,_Engine!$B$3=0),_Engine!$D$43=1),TEXT(EDATE(_Engine!$B$5,_Engine!$P$43-1),"mmm yyyy"),"") | E42: =IF(AND(AND(_Engine!$B$2>0,_Engine!$B$3=0),_Engine!$D$43=1),ROUND(_Engine!$R$43,0),"") | F42: =IF(AND(AND(_Engine!$B$2>0,_Engine!$B$3=0),_Engine!$D$43=1),ROUND(_Engine!$Q$43,0),"")
B43: =IF(_Engine!$D$44=1,_Engine!$E$44,"") | C43: =IF(AND(AND(_Engine!$B$2>0,_Engine!$B$3=0),_Engine!$D$44=1),_Engine!$O$44,"") | D43: =IF(AND(AND(_Engine!$B$2>0,_Engine!$B$3=0),_Engine!$D$44=1),TEXT(EDATE(_Engine!$B$5,_Engine!$P$44-1),"mmm yyyy"),"") | E43: =IF(AND(AND(_Engine!$B$2>0,_Engine!$B$3=0),_Engine!$D$44=1),ROUND(_Engine!$R$44,0),"") | F43: =IF(AND(AND(_Engine!$B$2>0,_Engine!$B$3=0),_Engine!$D$44=1),ROUND(_Engine!$Q$44,0),"")
B44: =IF(_Engine!$D$45=1,_Engine!$E$45,"") | C44: =IF(AND(AND(_Engine!$B$2>0,_Engine!$B$3=0),_Engine!$D$45=1),_Engine!$O$45,"") | D44: =IF(AND(AND(_Engine!$B$2>0,_Engine!$B$3=0),_Engine!$D$45=1),TEXT(EDATE(_Engine!$B$5,_Engine!$P$45-1),"mmm yyyy"),"") | E44: =IF(AND(AND(_Engine!$B$2>0,_Engine!$B$3=0),_Engine!$D$45=1),ROUND(_Engine!$R$45,0),"") | F44: =IF(AND(AND(_Engine!$B$2>0,_Engine!$B$3=0),_Engine!$D$45=1),ROUND(_Engine!$Q$45,0),"")
B45: =IF(AND(_Engine!$B$2>0,_Engine!$B$3=0),"All debts","") | C45: =IF(AND(_Engine!$B$2>0,_Engine!$B$3=0),_Engine!$B$29,"") | D45: =IF(AND(_Engine!$B$2>0,_Engine!$B$3=0),TEXT(_Engine!$B$33,"mmm yyyy"),"") | E45: =IF(AND(_Engine!$B$2>0,_Engine!$B$3=0),ROUND(_Engine!$B$30,0),"") | F45: =IF(AND(_Engine!$B$2>0,_Engine!$B$3=0),ROUND(_Engine!$B$31,0),"")
B46: Each debt gets the monthly payment that clears it in time, rounded up to a whole amount, with the same rules as question 1.
B48: YOUR DEBT, MONTH BY MONTH (question 1)
...

Sheet Breakdown
A1: Month-by-month breakdown (question 1)
A2: ="What you pay, the interest, and what you still owe after each monthly payment, for all your debts and for each one. Amounts in "&Calculator!$C$8&"."
A3: Month no. | B3: Month | C3: You pay | D3: Interest | E3: To the debts | F3: Left to pay (all debts) | G3: =IF(_Engine!$D$41=1,"Left: "&_Engine!$E$41,"") | H3: =IF(_Engine!$D$42=1,"Left: "&_Engine!$E$42,"") | I3: =IF(_Engine!$D$43=1,"Left: "&_Engine!$E$43,"") | J3: =IF(_Engine!$D$44=1,"Left: "&_Engine!$E$44,"") | K3: =IF(_Engine!$D$45=1,"Left: "&_Engine!$E$45,"")
A4: =IF(1<=_Engine!$B$36,1,"") | B4: =IF($A4="","",EDATE(_Engine!$B$5,$A4-1)) | C4: =IF($A4="","",_Engine!$AJ62) | D4: =IF($A4="","",_Engine!$AK62) | E4: =IF($A4="","",_Engine!$AJ62-_Engine!$AK62) | F4: =IF($A4="","",_Engine!$AI62) | G4: =IF(OR($A4="",_Engine!$D$41=0),"",INDEX(_Engine!$E62:$X62,1,(_Engine!$J$41-1)*4+3)) | H4: =IF(OR($A4="",_Engine!$D$42=0),"",INDEX(_Engine!$E62:$X62,1,(_Engine!$J$42-1)*4+3)) | I4: =IF(OR($A4="",_Engine!$D$43=0),"",INDEX(_Engine!$E62:$X62,1,(_Engine!$J$43-1)*4+3)) | J4: =IF(OR($A4="",_Engine!$D$44=0),"",INDEX(_Engine!$E62:$X62,1,(_Engine!$J$44-1)*4+3)) | K4: =IF(OR($A4="",_Engine!$D$45=0),"",INDEX(_Engine!$E62:$X62,1,(_Engine!$J$45-1)*4+3))
A5: =IF(2<=_Engine!$B$36,2,"") | B5: =IF($A5="","",EDATE(_Engine!$B$5,$A5-1)) | C5: =IF($A5="","",_Engine!$AJ63) | D5: =IF($A5="","",_Engine!$AK63) | E5: =IF($A5="","",_Engine!$AJ63-_Engine!$AK63) | F5: =IF($A5="","",_Engine!$AI63) | G5: =IF(OR($A5="",_Engine!$D$41=0),"",INDEX(_Engine!$E63:$X63,1,(_Engine!$J$41-1)*4+3)) | H5: =IF(OR($A5="",_Engine!$D$42=0),"",INDEX(_Engine!$E63:$X63,1,(_Engine!$J$42-1)*4+3)) | I5: =IF(OR($A5="",_Engine!$D$43=0),"",INDEX(_Engine!$E63:$X63,1,(_Engine!$J$43-1)*4+3)) | J5: =IF(OR($A5="",_Engine!$D$44=0),"",INDEX(_Engine!$E63:$X63,1,(_Engine!$J$44-1)*4+3)) | K5: =IF(OR($A5="",_Engine!$D$45=0),"",INDEX(_Engine!$E63:$X63,1,(_Engine!$J$45-1)*4+3))
A6: =IF(3<=_Engine!$B$36,3,"") | B6: =IF($A6="","",EDATE(_Engine!$B$5,$A6-1)) | C6: =IF($A6="","",_Engine!$AJ64) | D6: =IF($A6="","",_Engine!$AK64) | E6: =IF($A6="","",_Engine!$AJ64-_Engine!$AK64) | F6: =IF($A6="","",_Engine!$AI64) | G6: =IF(OR($A6="",_Engine!$D$41=0),"",INDEX(_Engine!$E64:$X64,1,(_Engine!$J$41-1)*4+3)) | H6: =IF(OR($A6="",_Engine!$D$42=0),"",INDEX(_Engine!$E64:$X64,1,(_Engine!$J$42-1)*4+3)) | I6: =IF(OR($A6="",_Engine!$D$43=0),"",INDEX(_Engine!$E64:$X64,1,(_Engine!$J$43-1)*4+3)) | J6: =IF(OR($A6="",_Engine!$D$44=0),"",INDEX(_Engine!$E64:$X64,1,(_Engine!$J$44-1)*4+3)) | K6: =IF(OR($A6="",_Engine!$D$45=0),"",INDEX(_Engine!$E64:$X64,1,(_Engine!$J$45-1)*4+3))
A7: =IF(4<=_Engine!$B$36,4,"") | B7: =IF($A7="","",EDATE(_Engine!$B$5,$A7-1)) | C7: =IF($A7="","",_Engine!$AJ65) | D7: =IF($A7="","",_Engine!$AK65) | E7: =IF($A7="","",_Engine!$AJ65-_Engine!$AK65) | F7: =IF($A7="","",_Engine!$AI65) | G7: =IF(OR($A7="",_Engine!$D$41=0),"",INDEX(_Engine!$E65:$X65,1,(_Engine!$J$41-1)*4+3)) | H7: =IF(OR($A7="",_Engine!$D$42=0),"",INDEX(_Engine!$E65:$X65,1,(_Engine!$J$42-1)*4+3)) | I7: =IF(OR($A7="",_Engine!$D$43=0),"",INDEX(_Engine!$E65:$X65,1,(_Engine!$J$43-1)*4+3)) | J7: =IF(OR($A7="",_Engine!$D$44=0),"",INDEX(_Engine!$E65:$X65,1,(_Engine!$J$44-1)*4+3)) | K7: =IF(OR($A7="",_Engine!$D$45=0),"",INDEX(_Engine!$E65:$X65,1,(_Engine!$J$45-1)*4+3))
A8: =IF(5<=_Engine!$B$36,5,"") | B8: =IF($A8="","",EDATE(_Engine!$B$5,$A8-1)) | C8: =IF($A8="","",_Engine!$AJ66) | D8: =IF($A8="","",_Engine!$AK66) | E8: =IF($A8="","",_Engine!$AJ66-_Engine!$AK66) | F8: =IF($A8="","",_Engine!$AI66) | G8: =IF(OR($A8="",_Engine!$D$41=0),"",INDEX(_Engine!$E66:$X66,1,(_Engine!$J$41-1)*4+3)) | H8: =IF(OR($A8="",_Engine!$D$42=0),"",INDEX(_Engine!$E66:$X66,1,(_Engine!$J$42-1)*4+3)) | I8: =IF(OR($A8="",_Engine!$D$43=0),"",INDEX(_Engine!$E66:$X66,1,(_Engine!$J$43-1)*4+3)) | J8: =IF(OR($A8="",_Engine!$D$44=0),"",INDEX(_Engine!$E66:$X66,1,(_Engine!$J$44-1)*4+3)) | K8: =IF(OR($A8="",_Engine!$D$45=0),"",INDEX(_Engine!$E66:$X66,1,(_Engine!$J$45-1)*4+3))
A9: =IF(6<=_Engine!$B$36,6,"") | B9: =IF($A9="","",EDATE(_Engine!$B$5,$A9-1)) | C9: =IF($A9="","",_Engine!$AJ67) | D9: =IF($A9="","",_Engine!$AK67) | E9: =IF($A9="","",_Engine!$AJ67-_Engine!$AK67) | F9: =IF($A9="","",_Engine!$AI67) | G9: =IF(OR($A9="",_Engine!$D$41=0),"",INDEX(_Engine!$E67:$X67,1,(_Engine!$J$41-1)*4+3)) | H9: =IF(OR($A9="",_Engine!$D$42=0),"",INDEX(_Engine!$E67:$X67,1,(_Engine!$J$42-1)*4+3)) | I9: =IF(OR($A9="",_Engine!$D$43=0),"",INDEX(_Engine!$E67:$X67,1,(_Engine!$J$43-1)*4+3)) | J9: =IF(OR($A9="",_Engine!$D$44=0),"",INDEX(_Engine!$E67:$X67,1,(_Engine!$J$44-1)*4+3)) | K9: =IF(OR($A9="",_Engine!$D$45=0),"",INDEX(_Engine!$E67:$X67,1,(_Engine!$J$45-1)*4+3))
A10: =IF(7<=_Engine!$B$36,7,"") | B10: =IF($A10="","",EDATE(_Engine!$B$5,$A10-1)) | C10: =IF($A10="","",_Engine!$AJ68) | D10: =IF($A10="","",_Engine!$AK68) | E10: =IF($A10="","",_Engine!$AJ68-_Engine!$AK68) | F10: =IF($A10="","",_Engine!$AI68) | G10: =IF(OR($A10="",_Engine!$D$41=0),"",INDEX(_Engine!$E68:$X68,1,(_Engine!$J$41-1)*4+3)) | H10: =IF(OR($A10="",_Engine!$D$42=0),"",INDEX(_Engine!$E68:$X68,1,(_Engine!$J$42-1)*4+3)) | I10: =IF(OR($A10="",_Engine!$D$43=0),"",INDEX(_Engine!$E68:$X68,1,(_Engine!$J$43-1)*4+3)) | J10: =IF(OR($A10="",_Engine!$D$44=0),"",INDEX(_Engine!$E68:$X68,1,(_Engine!$J$44-1)*4+3)) | K10: =IF(OR($A10="",_Engine!$D$45=0),"",INDEX(_Engine!$E68:$X68,1,(_Engine!$J$45-1)*4+3))
A11: =IF(8<=_Engine!$B$36,8,"") | B11: =IF($A11="","",EDATE(_Engine!$B$5,$A11-1)) | C11: =IF($A11="","",_Engine!$AJ69) | D11: =IF($A11="","",_Engine!$AK69) | E11: =IF($A11="","",_Engine!$AJ69-_Engine!$AK69) | F11: =IF($A11="","",_Engine!$AI69) | G11: =IF(OR($A11="",_Engine!$D$41=0),"",INDEX(_Engine!$E69:$X69,1,(_Engine!$J$41-1)*4+3)) | H11: =IF(OR($A11="",_Engine!$D$42=0),"",INDEX(_Engine!$E69:$X69,1,(_Engine!$J$42-1)*4+3)) | I11: =IF(OR($A11="",_Engine!$D$43=0),"",INDEX(_Engine!$E69:$X69,1,(_Engine!$J$43-1)*4+3)) | J11: =IF(OR($A11="",_Engine!$D$44=0),"",INDEX(_Engine!$E69:$X69,1,(_Engine!$J$44-1)*4+3)) | K11: =IF(OR($A11="",_Engine!$D$45=0),"",INDEX(_Engine!$E69:$X69,1,(_Engine!$J$45-1)*4+3))
A12: =IF(9<=_Engine!$B$36,9,"") | B12: =IF($A12="","",EDATE(_Engine!$B$5,$A12-1)) | C12: =IF($A12="","",_Engine!$AJ70) | D12: =IF($A12="","",_Engine!$AK70) | E12: =IF($A12="","",_Engine!$AJ70-_Engine!$AK70) | F12: =IF($A12="","",_Engine!$AI70) | G12: =IF(OR($A12="",_Engine!$D$41=0),"",INDEX(_Engine!$E70:$X70,1,(_Engine!$J$41-1)*4+3)) | H12: =IF(OR($A12="",_Engine!$D$42=0),"",INDEX(_Engine!$E70:$X70,1,(_Engine!$J$42-1)*4+3)) | I12: =IF(OR($A12="",_Engine!$D$43=0),"",INDEX(_Engine!$E70:$X70,1,(_Engine!$J$43-1)*4+3)) | J12: =IF(OR($A12="",_Engine!$D$44=0),"",INDEX(_Engine!$E70:$X70,1,(_Engine!$J$44-1)*4+3)) | K12: =IF(OR($A12="",_Engine!$D$45=0),"",INDEX(_Engine!$E70:$X70,1,(_Engine!$J$45-1)*4+3))
A13: =IF(10<=_Engine!$B$36,10,"") | B13: =IF($A13="","",EDATE(_Engine!$B$5,$A13-1)) | C13: =IF($A13="","",_Engine!$AJ71) | D13: =IF($A13="","",_Engine!$AK71) | E13: =IF($A13="","",_Engine!$AJ71-_Engine!$AK71) | F13: =IF($A13="","",_Engine!$AI71) | G13: =IF(OR($A13="",_Engine!$D$41=0),"",INDEX(_Engine!$E71:$X71,1,(_Engine!$J$41-1)*4+3)) | H13: =IF(OR($A13="",_Engine!$D$42=0),"",INDEX(_Engine!$E71:$X71,1,(_Engine!$J$42-1)*4+3)) | I13: =IF(OR($A13="",_Engine!$D$43=0),"",INDEX(_Engine!$E71:$X71,1,(_Engine!$J$43-1)*4+3)) | J13: =IF(OR($A13="",_Engine!$D$44=0),"",INDEX(_Engine!$E71:$X71,1,(_Engine!$J$44-1)*4+3)) | K13: =IF(OR($A13="",_Engine!$D$45=0),"",INDEX(_Engine!$E71:$X71,1,(_Engine!$J$45-1)*4+3))
A14: =IF(11<=_Engine!$B$36,11,"") | B14: =IF($A14="","",EDATE(_Engine!$B$5,$A14-1)) | C14: =IF($A14="","",_Engine!$AJ72) | D14: =IF($A14="","",_Engine!$AK72) | E14: =IF($A14="","",_Engine!$AJ72-_Engine!$AK72) | F14: =IF($A14="","",_Engine!$AI72) | G14: =IF(OR($A14="",_Engine!$D$41=0),"",INDEX(_Engine!$E72:$X72,1,(_Engine!$J$41-1)*4+3)) | H14: =IF(OR($A14="",_Engine!$D$42=0),"",INDEX(_Engine!$E72:$X72,1,(_Engine!$J$42-1)*4+3)) | I14: =IF(OR($A14="",_Engine!$D$43=0),"",INDEX(_Engine!$E72:$X72,1,(_Engine!$J$43-1)*4+3)) | J14: =IF(OR($A14="",_Engine!$D$44=0),"",INDEX(_Engine!$E72:$X72,1,(_Engine!$J$44-1)*4+3)) | K14: =IF(OR($A14="",_Engine!$D$45=0),"",INDEX(_Engine!$E72:$X72,1,(_Engine!$J$45-1)*4+3))
A15: =IF(12<=_Engine!$B$36,12,"") | B15: =IF($A15="","",EDATE(_Engine!$B$5,$A15-1)) | C15: =IF($A15="","",_Engine!$AJ73) | D15: =IF($A15="","",_Engine!$AK73) | E15: =IF($A15="","",_Engine!$AJ73-_Engine!$AK73) | F15: =IF($A15="","",_Engine!$AI73) | G15: =IF(OR($A15="",_Engine!$D$41=0),"",INDEX(_Engine!$E73:$X73,1,(_Engine!$J$41-1)*4+3)) | H15: =IF(OR($A15="",_Engine!$D$42=0),"",INDEX(_Engine!$E73:$X73,1,(_Engine!$J$42-1)*4+3)) | I15: =IF(OR($A15="",_Engine!$D$43=0),"",INDEX(_Engine!$E73:$X73,1,(_Engine!$J$43-1)*4+3)) | J15: =IF(OR($A15="",_Engine!$D$44=0),"",INDEX(_Engine!$E73:$X73,1,(_Engine!$J$44-1)*4+3)) | K15: =IF(OR($A15="",_Engine!$D$45=0),"",INDEX(_Engine!$E73:$X73,1,(_Engine!$J$45-1)*4+3))
A16: =IF(13<=_Engine!$B$36,13,"") | B16: =IF($A16="","",EDATE(_Engine!$B$5,$A16-1)) | C16: =IF($A16="","",_Engine!$AJ74) | D16: =IF($A16="","",_Engine!$AK74) | E16: =IF($A16="","",_Engine!$AJ74-_Engine!$AK74) | F16: =IF($A16="","",_Engine!$AI74) | G16: =IF(OR($A16="",_Engine!$D$41=0),"",INDEX(_Engine!$E74:$X74,1,(_Engine!$J$41-1)*4+3)) | H16: =IF(OR($A16="",_Engine!$D$42=0),"",INDEX(_Engine!$E74:$X74,1,(_Engine!$J$42-1)*4+3)) | I16: =IF(OR($A16="",_Engine!$D$43=0),"",INDEX(_Engine!$E74:$X74,1,(_Engine!$J$43-1)*4+3)) | J16: =IF(OR($A16="",_Engine!$D$44=0),"",INDEX(_Engine!$E74:$X74,1,(_Engine!$J$44-1)*4+3)) | K16: =IF(OR($A16="",_Engine!$D$45=0),"",INDEX(_Engine!$E74:$X74,1,(_Engine!$J$45-1)*4+3))
A17: =IF(14<=_Engine!$B$36,14,"") | B17: =IF($A17="","",EDATE(_Engine!$B$5,$A17-1)) | C17: =IF($A17="","",_Engine!$AJ75) | D17: =IF($A17="","",_Engine!$AK75) | E17: =IF($A17="","",_Engine!$AJ75-_Engine!$AK75) | F17: =IF($A17="","",_Engine!$AI75) | G17: =IF(OR($A17="",_Engine!$D$41=0),"",INDEX(_Engine!$E75:$X75,1,(_Engine!$J$41-1)*4+3)) | H17: =IF(OR($A17="",_Engine!$D$42=0),"",INDEX(_Engine!$E75:$X75,1,(_Engine!$J$42-1)*4+3)) | I17: =IF(OR($A17="",_Engine!$D$43=0),"",INDEX(_Engine!$E75:$X75,1,(_Engine!$J$43-1)*4+3)) | J17: =IF(OR($A17="",_Engine!$D$44=0),"",INDEX(_Engine!$E75:$X75,1,(_Engine!$J$44-1)*4+3)) | K17: =IF(OR($A17="",_Engine!$D$45=0),"",INDEX(_Engine!$E75:$X75,1,(_Engine!$J$45-1)*4+3))
A18: =IF(15<=_Engine!$B$36,15,"") | B18: =IF($A18="","",EDATE(_Engine!$B$5,$A18-1)) | C18: =IF($A18="","",_Engine!$AJ76) | D18: =IF($A18="","",_Engine!$AK76) | E18: =IF($A18="","",_Engine!$AJ76-_Engine!$AK76) | F18: =IF($A18="","",_Engine!$AI76) | G18: =IF(OR($A18="",_Engine!$D$41=0),"",INDEX(_Engine!$E76:$X76,1,(_Engine!$J$41-1)*4+3)) | H18: =IF(OR($A18="",_Engine!$D$42=0),"",INDEX(_Engine!$E76:$X76,1,(_Engine!$J$42-1)*4+3)) | I18: =IF(OR($A18="",_Engine!$D$43=0),"",INDEX(_Engine!$E76:$X76,1,(_Engine!$J$43-1)*4+3)) | J18: =IF(OR($A18="",_Engine!$D$44=0),"",INDEX(_Engine!$E76:$X76,1,(_Engine!$J$44-1)*4+3)) | K18: =IF(OR($A18="",_Engine!$D$45=0),"",INDEX(_Engine!$E76:$X76,1,(_Engine!$J$45-1)*4+3))
A19: =IF(16<=_Engine!$B$36,16,"") | B19: =IF($A19="","",EDATE(_Engine!$B$5,$A19-1)) | C19: =IF($A19="","",_Engine!$AJ77) | D19: =IF($A19="","",_Engine!$AK77) | E19: =IF($A19="","",_Engine!$AJ77-_Engine!$AK77) | F19: =IF($A19="","",_Engine!$AI77) | G19: =IF(OR($A19="",_Engine!$D$41=0),"",INDEX(_Engine!$E77:$X77,1,(_Engine!$J$41-1)*4+3)) | H19: =IF(OR($A19="",_Engine!$D$42=0),"",INDEX(_Engine!$E77:$X77,1,(_Engine!$J$42-1)*4+3)) | I19: =IF(OR($A19="",_Engine!$D$43=0),"",INDEX(_Engine!$E77:$X77,1,(_Engine!$J$43-1)*4+3)) | J19: =IF(OR($A19="",_Engine!$D$44=0),"",INDEX(_Engine!$E77:$X77,1,(_Engine!$J$44-1)*4+3)) | K19: =IF(OR($A19="",_Engine!$D$45=0),"",INDEX(_Engine!$E77:$X77,1,(_Engine!$J$45-1)*4+3))
A20: =IF(17<=_Engine!$B$36,17,"") | B20: =IF($A20="","",EDATE(_Engine!$B$5,$A20-1)) | C20: =IF($A20="","",_Engine!$AJ78) | D20: =IF($A20="","",_Engine!$AK78) | E20: =IF($A20="","",_Engine!$AJ78-_Engine!$AK78) | F20: =IF($A20="","",_Engine!$AI78) | G20: =IF(OR($A20="",_Engine!$D$41=0),"",INDEX(_Engine!$E78:$X78,1,(_Engine!$J$41-1)*4+3)) | H20: =IF(OR($A20="",_Engine!$D$42=0),"",INDEX(_Engine!$E78:$X78,1,(_Engine!$J$42-1)*4+3)) | I20: =IF(OR($A20="",_Engine!$D$43=0),"",INDEX(_Engine!$E78:$X78,1,(_Engine!$J$43-1)*4+3)) | J20: =IF(OR($A20="",_Engine!$D$44=0),"",INDEX(_Engine!$E78:$X78,1,(_Engine!$J$44-1)*4+3)) | K20: =IF(OR($A20="",_Engine!$D$45=0),"",INDEX(_Engine!$E78:$X78,1,(_Engine!$J$45-1)*4+3))
A21: =IF(18<=_Engine!$B$36,18,"") | B21: =IF($A21="","",EDATE(_Engine!$B$5,$A21-1)) | C21: =IF($A21="","",_Engine!$AJ79) | D21: =IF($A21="","",_Engine!$AK79) | E21: =IF($A21="","",_Engine!$AJ79-_Engine!$AK79) | F21: =IF($A21="","",_Engine!$AI79) | G21: =IF(OR($A21="",_Engine!$D$41=0),"",INDEX(_Engine!$E79:$X79,1,(_Engine!$J$41-1)*4+3)) | H21: =IF(OR($A21="",_Engine!$D$42=0),"",INDEX(_Engine!$E79:$X79,1,(_Engine!$J$42-1)*4+3)) | I21: =IF(OR($A21="",_Engine!$D$43=0),"",INDEX(_Engine!$E79:$X79,1,(_Engine!$J$43-1)*4+3)) | J21: =IF(OR($A21="",_Engine!$D$44=0),"",INDEX(_Engine!$E79:$X79,1,(_Engine!$J$44-1)*4+3)) | K21: =IF(OR($A21="",_Engine!$D$45=0),"",INDEX(_Engine!$E79:$X79,1,(_Engine!$J$45-1)*4+3))
A22: =IF(19<=_Engine!$B$36,19,"") | B22: =IF($A22="","",EDATE(_Engine!$B$5,$A22-1)) | C22: =IF($A22="","",_Engine!$AJ80) | D22: =IF($A22="","",_Engine!$AK80) | E22: =IF($A22="","",_Engine!$AJ80-_Engine!$AK80) | F22: =IF($A22="","",_Engine!$AI80) | G22: =IF(OR($A22="",_Engine!$D$41=0),"",INDEX(_Engine!$E80:$X80,1,(_Engine!$J$41-1)*4+3)) | H22: =IF(OR($A22="",_Engine!$D$42=0),"",INDEX(_Engine!$E80:$X80,1,(_Engine!$J$42-1)*4+3)) | I22: =IF(OR($A22="",_Engine!$D$43=0),"",INDEX(_Engine!$E80:$X80,1,(_Engine!$J$43-1)*4+3)) | J22: =IF(OR($A22="",_Engine!$D$44=0),"",INDEX(_Engine!$E80:$X80,1,(_Engine!$J$44-1)*4+3)) | K22: =IF(OR($A22="",_Engine!$D$45=0),"",INDEX(_Engine!$E80:$X80,1,(_Engine!$J$45-1)*4+3))
A23: =IF(20<=_Engine!$B$36,20,"") | B23: =IF($A23="","",EDATE(_Engine!$B$5,$A23-1)) | C23: =IF($A23="","",_Engine!$AJ81) | D23: =IF($A23="","",_Engine!$AK81) | E23: =IF($A23="","",_Engine!$AJ81-_Engine!$AK81) | F23: =IF($A23="","",_Engine!$AI81) | G23: =IF(OR($A23="",_Engine!$D$41=0),"",INDEX(_Engine!$E81:$X81,1,(_Engine!$J$41-1)*4+3)) | H23: =IF(OR($A23="",_Engine!$D$42=0),"",INDEX(_Engine!$E81:$X81,1,(_Engine!$J$42-1)*4+3)) | I23: =IF(OR($A23="",_Engine!$D$43=0),"",INDEX(_Engine!$E81:$X81,1,(_Engine!$J$43-1)*4+3)) | J23: =IF(OR($A23="",_Engine!$D$44=0),"",INDEX(_Engine!$E81:$X81,1,(_Engine!$J$44-1)*4+3)) | K23: =IF(OR($A23="",_Engine!$D$45=0),"",INDEX(_Engine!$E81:$X81,1,(_Engine!$J$45-1)*4+3))
A24: =IF(21<=_Engine!$B$36,21,"") | B24: =IF($A24="","",EDATE(_Engine!$B$5,$A24-1)) | C24: =IF($A24="","",_Engine!$AJ82) | D24: =IF($A24="","",_Engine!$AK82) | E24: =IF($A24="","",_Engine!$AJ82-_Engine!$AK82) | F24: =IF($A24="","",_Engine!$AI82) | G24: =IF(OR($A24="",_Engine!$D$41=0),"",INDEX(_Engine!$E82:$X82,1,(_Engine!$J$41-1)*4+3)) | H24: =IF(OR($A24="",_Engine!$D$42=0),"",INDEX(_Engine!$E82:$X82,1,(_Engine!$J$42-1)*4+3)) | I24: =IF(OR($A24="",_Engine!$D$43=0),"",INDEX(_Engine!$E82:$X82,1,(_Engine!$J$43-1)*4+3)) | J24: =IF(OR($A24="",_Engine!$D$44=0),"",INDEX(_Engine!$E82:$X82,1,(_Engine!$J$44-1)*4+3)) | K24: =IF(OR($A24="",_Engine!$D$45=0),"",INDEX(_Engine!$E82:$X82,1,(_Engine!$J$45-1)*4+3))
A25: =IF(22<=_Engine!$B$36,22,"") | B25: =IF($A25="","",EDATE(_Engine!$B$5,$A25-1)) | C25: =IF($A25="","",_Engine!$AJ83) | D25: =IF($A25="","",_Engine!$AK83) | E25: =IF($A25="","",_Engine!$AJ83-_Engine!$AK83) | F25: =IF($A25="","",_Engine!$AI83) | G25: =IF(OR($A25="",_Engine!$D$41=0),"",INDEX(_Engine!$E83:$X83,1,(_Engine!$J$41-1)*4+3)) | H25: =IF(OR($A25="",_Engine!$D$42=0),"",INDEX(_Engine!$E83:$X83,1,(_Engine!$J$42-1)*4+3)) | I25: =IF(OR($A25="",_Engine!$D$43=0),"",INDEX(_Engine!$E83:$X83,1,(_Engine!$J$43-1)*4+3)) | J25: =IF(OR($A25="",_Engine!$D$44=0),"",INDEX(_Engine!$E83:$X83,1,(_Engine!$J$44-1)*4+3)) | K25: =IF(OR($A25="",_Engine!$D$45=0),"",INDEX(_Engine!$E83:$X83,1,(_Engine!$J$45-1)*4+3))
A26: =IF(23<=_Engine!$B$36,23,"") | B26: =IF($A26="","",EDATE(_Engine!$B$5,$A26-1)) | C26: =IF($A26="","",_Engine!$AJ84) | D26: =IF($A26="","",_Engine!$AK84) | E26: =IF($A26="","",_Engine!$AJ84-_Engine!$AK84) | F26: =IF($A26="","",_Engine!$AI84) | G26: =IF(OR($A26="",_Engine!$D$41=0),"",INDEX(_Engine!$E84:$X84,1,(_Engine!$J$41-1)*4+3)) | H26: =IF(OR($A26="",_Engine!$D$42=0),"",INDEX(_Engine!$E84:$X84,1,(_Engine!$J$42-1)*4+3)) | I26: =IF(OR($A26="",_Engine!$D$43=0),"",INDEX(_Engine!$E84:$X84,1,(_Engine!$J$43-1)*4+3)) | J26: =IF(OR($A26="",_Engine!$D$44=0),"",INDEX(_Engine!$E84:$X84,1,(_Engine!$J$44-1)*4+3)) | K26: =IF(OR($A26="",_Engine!$D$45=0),"",INDEX(_Engine!$E84:$X84,1,(_Engine!$J$45-1)*4+3))
A27: =IF(24<=_Engine!$B$36,24,"") | B27: =IF($A27="","",EDATE(_Engine!$B$5,$A27-1)) | C27: =IF($A27="","",_Engine!$AJ85) | D27: =IF($A27="","",_Engine!$AK85) | E27: =IF($A27="","",_Engine!$AJ85-_Engine!$AK85) | F27: =IF($A27="","",_Engine!$AI85) | G27: =IF(OR($A27="",_Engine!$D$41=0),"",INDEX(_Engine!$E85:$X85,1,(_Engine!$J$41-1)*4+3)) | H27: =IF(OR($A27="",_Engine!$D$42=0),"",INDEX(_Engine!$E85:$X85,1,(_Engine!$J$42-1)*4+3)) | I27: =IF(OR($A27="",_Engine!$D$43=0),"",INDEX(_Engine!$E85:$X85,1,(_Engine!$J$43-1)*4+3)) | J27: =IF(OR($A27="",_Engine!$D$44=0),"",INDEX(_Engine!$E85:$X85,1,(_Engine!$J$44-1)*4+3)) | K27: =IF(OR($A27="",_Engine!$D$45=0),"",INDEX(_Engine!$E85:$X85,1,(_Engine!$J$45-1)*4+3))
A28: =IF(25<=_Engine!$B$36,25,"") | B28: =IF($A28="","",EDATE(_Engine!$B$5,$A28-1)) | C28: =IF($A28="","",_Engine!$AJ86) | D28: =IF($A28="","",_Engine!$AK86) | E28: =IF($A28="","",_Engine!$AJ86-_Engine!$AK86) | F28: =IF($A28="","",_Engine!$AI86) | G28: =IF(OR($A28="",_Engine!$D$41=0),"",INDEX(_Engine!$E86:$X86,1,(_Engine!$J$41-1)*4+3)) | H28: =IF(OR($A28="",_Engine!$D$42=0),"",INDEX(_Engine!$E86:$X86,1,(_Engine!$J$42-1)*4+3)) | I28: =IF(OR($A28="",_Engine!$D$43=0),"",INDEX(_Engine!$E86:$X86,1,(_Engine!$J$43-1)*4+3)) | J28: =IF(OR($A28="",_Engine!$D$44=0),"",INDEX(_Engine!$E86:$X86,1,(_Engine!$J$44-1)*4+3)) | K28: =IF(OR($A28="",_Engine!$D$45=0),"",INDEX(_Engine!$E86:$X86,1,(_Engine!$J$45-1)*4+3))
A29: =IF(26<=_Engine!$B$36,26,"") | B29: =IF($A29="","",EDATE(_Engine!$B$5,$A29-1)) | C29: =IF($A29="","",_Engine!$AJ87) | D29: =IF($A29="","",_Engine!$AK87) | E29: =IF($A29="","",_Engine!$AJ87-_Engine!$AK87) | F29: =IF($A29="","",_Engine!$AI87) | G29: =IF(OR($A29="",_Engine!$D$41=0),"",INDEX(_Engine!$E87:$X87,1,(_Engine!$J$41-1)*4+3)) | H29: =IF(OR($A29="",_Engine!$D$42=0),"",INDEX(_Engine!$E87:$X87,1,(_Engine!$J$42-1)*4+3)) | I29: =IF(OR($A29="",_Engine!$D$43=0),"",INDEX(_Engine!$E87:$X87,1,(_Engine!$J$43-1)*4+3)) | J29: =IF(OR($A29="",_Engine!$D$44=0),"",INDEX(_Engine!$E87:$X87,1,(_Engine!$J$44-1)*4+3)) | K29: =IF(OR($A29="",_Engine!$D$45=0),"",INDEX(_Engine!$E87:$X87,1,(_Engine!$J$45-1)*4+3))
A30: =IF(27<=_Engine!$B$36,27,"") | B30: =IF($A30="","",EDATE(_Engine!$B$5,$A30-1)) | C30: =IF($A30="","",_Engine!$AJ88) | D30: =IF($A30="","",_Engine!$AK88) | E30: =IF($A30="","",_Engine!$AJ88-_Engine!$AK88) | F30: =IF($A30="","",_Engine!$AI88) | G30: =IF(OR($A30="",_Engine!$D$41=0),"",INDEX(_Engine!$E88:$X88,1,(_Engine!$J$41-1)*4+3)) | H30: =IF(OR($A30="",_Engine!$D$42=0),"",INDEX(_Engine!$E88:$X88,1,(_Engine!$J$42-1)*4+3)) | I30: =IF(OR($A30="",_Engine!$D$43=0),"",INDEX(_Engine!$E88:$X88,1,(_Engine!$J$43-1)*4+3)) | J30: =IF(OR($A30="",_Engine!$D$44=0),"",INDEX(_Engine!$E88:$X88,1,(_Engine!$J$44-1)*4+3)) | K30: =IF(OR($A30="",_Engine!$D$45=0),"",INDEX(_Engine!$E88:$X88,1,(_Engine!$J$45-1)*4+3))
A31: =IF(28<=_Engine!$B$36,28,"") | B31: =IF($A31="","",EDATE(_Engine!$B$5,$A31-1)) | C31: =IF($A31="","",_Engine!$AJ89) | D31: =IF($A31="","",_Engine!$AK89) | E31: =IF($A31="","",_Engine!$AJ89-_Engine!$AK89) | F31: =IF($A31="","",_Engine!$AI89) | G31: =IF(OR($A31="",_Engine!$D$41=0),"",INDEX(_Engine!$E89:$X89,1,(_Engine!$J$41-1)*4+3)) | H31: =IF(OR($A31="",_Engine!$D$42=0),"",INDEX(_Engine!$E89:$X89,1,(_Engine!$J$42-1)*4+3)) | I31: =IF(OR($A31="",_Engine!$D$43=0),"",INDEX(_Engine!$E89:$X89,1,(_Engine!$J$43-1)*4+3)) | J31: =IF(OR($A31="",_Engine!$D$44=0),"",INDEX(_Engine!$E89:$X89,1,(_Engine!$J$44-1)*4+3)) | K31: =IF(OR($A31="",_Engine!$D$45=0),"",INDEX(_Engine!$E89:$X89,1,(_Engine!$J$45-1)*4+3))
A32: =IF(29<=_Engine!$B$36,29,"") | B32: =IF($A32="","",EDATE(_Engine!$B$5,$A32-1)) | C32: =IF($A32="","",_Engine!$AJ90) | D32: =IF($A32="","",_Engine!$AK90) | E32: =IF($A32="","",_Engine!$AJ90-_Engine!$AK90) | F32: =IF($A32="","",_Engine!$AI90) | G32: =IF(OR($A32="",_Engine!$D$41=0),"",INDEX(_Engine!$E90:$X90,1,(_Engine!$J$41-1)*4+3)) | H32: =IF(OR($A32="",_Engine!$D$42=0),"",INDEX(_Engine!$E90:$X90,1,(_Engine!$J$42-1)*4+3)) | I32: =IF(OR($A32="",_Engine!$D$43=0),"",INDEX(_Engine!$E90:$X90,1,(_Engine!$J$43-1)*4+3)) | J32: =IF(OR($A32="",_Engine!$D$44=0),"",INDEX(_Engine!$E90:$X90,1,(_Engine!$J$44-1)*4+3)) | K32: =IF(OR($A32="",_Engine!$D$45=0),"",INDEX(_Engine!$E90:$X90,1,(_Engine!$J$45-1)*4+3))
A33: =IF(30<=_Engine!$B$36,30,"") | B33: =IF($A33="","",EDATE(_Engine!$B$5,$A33-1)) | C33: =IF($A33="","",_Engine!$AJ91) | D33: =IF($A33="","",_Engine!$AK91) | E33: =IF($A33="","",_Engine!$AJ91-_Engine!$AK91) | F33: =IF($A33="","",_Engine!$AI91) | G33: =IF(OR($A33="",_Engine!$D$41=0),"",INDEX(_Engine!$E91:$X91,1,(_Engine!$J$41-1)*4+3)) | H33: =IF(OR($A33="",_Engine!$D$42=0),"",INDEX(_Engine!$E91:$X91,1,(_Engine!$J$42-1)*4+3)) | I33: =IF(OR($A33="",_Engine!$D$43=0),"",INDEX(_Engine!$E91:$X91,1,(_Engine!$J$43-1)*4+3)) | J33: =IF(OR($A33="",_Engine!$D$44=0),"",INDEX(_Engine!$E91:$X91,1,(_Engine!$J$44-1)*4+3)) | K33: =IF(OR($A33="",_Engine!$D$45=0),"",INDEX(_Engine!$E91:$X91,1,(_Engine!$J$45-1)*4+3))
A34: =IF(31<=_Engine!$B$36,31,"") | B34: =IF($A34="","",EDATE(_Engine!$B$5,$A34-1)) | C34: =IF($A34="","",_Engine!$AJ92) | D34: =IF($A34="","",_Engine!$AK92) | E34: =IF($A34="","",_Engine!$AJ92-_Engine!$AK92) | F34: =IF($A34="","",_Engine!$AI92) | G34: =IF(OR($A34="",_Engine!$D$41=0),"",INDEX(_Engine!$E92:$X92,1,(_Engine!$J$41-1)*4+3)) | H34: =IF(OR($A34="",_Engine!$D$42=0),"",INDEX(_Engine!$E92:$X92,1,(_Engine!$J$42-1)*4+3)) | I34: =IF(OR($A34="",_Engine!$D$43=0),"",INDEX(_Engine!$E92:$X92,1,(_Engine!$J$43-1)*4+3)) | J34: =IF(OR($A34="",_Engine!$D$44=0),"",INDEX(_Engine!$E92:$X92,1,(_Engine!$J$44-1)*4+3)) | K34: =IF(OR($A34="",_Engine!$D$45=0),"",INDEX(_Engine!$E92:$X92,1,(_Engine!$J$45-1)*4+3))
A35: =IF(32<=_Engine!$B$36,32,"") | B35: =IF($A35="","",EDATE(_Engine!$B$5,$A35-1)) | C35: =IF($A35="","",_Engine!$AJ93) | D35: =IF($A35="","",_Engine!$AK93) | E35: =IF($A35="","",_Engine!$AJ93-_Engine!$AK93) | F35: =IF($A35="","",_Engine!$AI93) | G35: =IF(OR($A35="",_Engine!$D$41=0),"",INDEX(_Engine!$E93:$X93,1,(_Engine!$J$41-1)*4+3)) | H35: =IF(OR($A35="",_Engine!$D$42=0),"",INDEX(_Engine!$E93:$X93,1,(_Engine!$J$42-1)*4+3)) | I35: =IF(OR($A35="",_Engine!$D$43=0),"",INDEX(_Engine!$E93:$X93,1,(_Engine!$J$43-1)*4+3)) | J35: =IF(OR($A35="",_Engine!$D$44=0),"",INDEX(_Engine!$E93:$X93,1,(_Engine!$J$44-1)*4+3)) | K35: =IF(OR($A35="",_Engine!$D$45=0),"",INDEX(_Engine!$E93:$X93,1,(_Engine!$J$45-1)*4+3))
A36: =IF(33<=_Engine!$B$36,33,"") | B36: =IF($A36="","",EDATE(_Engine!$B$5,$A36-1)) | C36: =IF($A36="","",_Engine!$AJ94) | D36: =IF($A36="","",_Engine!$AK94) | E36: =IF($A36="","",_Engine!$AJ94-_Engine!$AK94) | F36: =IF($A36="","",_Engine!$AI94) | G36: =IF(OR($A36="",_Engine!$D$41=0),"",INDEX(_Engine!$E94:$X94,1,(_Engine!$J$41-1)*4+3)) | H36: =IF(OR($A36="",_Engine!$D$42=0),"",INDEX(_Engine!$E94:$X94,1,(_Engine!$J$42-1)*4+3)) | I36: =IF(OR($A36="",_Engine!$D$43=0),"",INDEX(_Engine!$E94:$X94,1,(_Engine!$J$43-1)*4+3)) | J36: =IF(OR($A36="",_Engine!$D$44=0),"",INDEX(_Engine!$E94:$X94,1,(_Engine!$J$44-1)*4+3)) | K36: =IF(OR($A36="",_Engine!$D$45=0),"",INDEX(_Engine!$E94:$X94,1,(_Engine!$J$45-1)*4+3))
A37: =IF(34<=_Engine!$B$36,34,"") | B37: =IF($A37="","",EDATE(_Engine!$B$5,$A37-1)) | C37: =IF($A37="","",_Engine!$AJ95) | D37: =IF($A37="","",_Engine!$AK95) | E37: =IF($A37="","",_Engine!$AJ95-_Engine!$AK95) | F37: =IF($A37="","",_Engine!$AI95) | G37: =IF(OR($A37="",_Engine!$D$41=0),"",INDEX(_Engine!$E95:$X95,1,(_Engine!$J$41-1)*4+3)) | H37: =IF(OR($A37="",_Engine!$D$42=0),"",INDEX(_Engine!$E95:$X95,1,(_Engine!$J$42-1)*4+3)) | I37: =IF(OR($A37="",_Engine!$D$43=0),"",INDEX(_Engine!$E95:$X95,1,(_Engine!$J$43-1)*4+3)) | J37: =IF(OR($A37="",_Engine!$D$44=0),"",INDEX(_Engine!$E95:$X95,1,(_Engine!$J$44-1)*4+3)) | K37: =IF(OR($A37="",_Engine!$D$45=0),"",INDEX(_Engine!$E95:$X95,1,(_Engine!$J$45-1)*4+3))
A38: =IF(35<=_Engine!$B$36,35,"") | B38: =IF($A38="","",EDATE(_Engine!$B$5,$A38-1)) | C38: =IF($A38="","",_Engine!$AJ96) | D38: =IF($A38="","",_Engine!$AK96) | E38: =IF($A38="","",_Engine!$AJ96-_Engine!$AK96) | F38: =IF($A38="","",_Engine!$AI96) | G38: =IF(OR($A38="",_Engine!$D$41=0),"",INDEX(_Engine!$E96:$X96,1,(_Engine!$J$41-1)*4+3)) | H38: =IF(OR($A38="",_Engine!$D$42=0),"",INDEX(_Engine!$E96:$X96,1,(_Engine!$J$42-1)*4+3)) | I38: =IF(OR($A38="",_Engine!$D$43=0),"",INDEX(_Engine!$E96:$X96,1,(_Engine!$J$43-1)*4+3)) | J38: =IF(OR($A38="",_Engine!$D$44=0),"",INDEX(_Engine!$E96:$X96,1,(_Engine!$J$44-1)*4+3)) | K38: =IF(OR($A38="",_Engine!$D$45=0),"",INDEX(_Engine!$E96:$X96,1,(_Engine!$J$45-1)*4+3))
A39: =IF(36<=_Engine!$B$36,36,"") | B39: =IF($A39="","",EDATE(_Engine!$B$5,$A39-1)) | C39: =IF($A39="","",_Engine!$AJ97) | D39: =IF($A39="","",_Engine!$AK97) | E39: =IF($A39="","",_Engine!$AJ97-_Engine!$AK97) | F39: =IF($A39="","",_Engine!$AI97) | G39: =IF(OR($A39="",_Engine!$D$41=0),"",INDEX(_Engine!$E97:$X97,1,(_Engine!$J$41-1)*4+3)) | H39: =IF(OR($A39="",_Engine!$D$42=0),"",INDEX(_Engine!$E97:$X97,1,(_Engine!$J$42-1)*4+3)) | I39: =IF(OR($A39="",_Engine!$D$43=0),"",INDEX(_Engine!$E97:$X97,1,(_Engine!$J$43-1)*4+3)) | J39: =IF(OR($A39="",_Engine!$D$44=0),"",INDEX(_Engine!$E97:$X97,1,(_Engine!$J$44-1)*4+3)) | K39: =IF(OR($A39="",_Engine!$D$45=0),"",INDEX(_Engine!$E97:$X97,1,(_Engine!$J$45-1)*4+3))
A40: =IF(37<=_Engine!$B$36,37,"") | B40: =IF($A40="","",EDATE(_Engine!$B$5,$A40-1)) | C40: =IF($A40="","",_Engine!$AJ98) | D40: =IF($A40="","",_Engine!$AK98) | E40: =IF($A40="","",_Engine!$AJ98-_Engine!$AK98) | F40: =IF($A40="","",_Engine!$AI98) | G40: =IF(OR($A40="",_Engine!$D$41=0),"",INDEX(_Engine!$E98:$X98,1,(_Engine!$J$41-1)*4+3)) | H40: =IF(OR($A40="",_Engine!$D$42=0),"",INDEX(_Engine!$E98:$X98,1,(_Engine!$J$42-1)*4+3)) | I40: =IF(OR($A40="",_Engine!$D$43=0),"",INDEX(_Engine!$E98:$X98,1,(_Engine!$J$43-1)*4+3)) | J40: =IF(OR($A40="",_Engine!$D$44=0),"",INDEX(_Engine!$E98:$X98,1,(_Engine!$J$44-1)*4+3)) | K40: =IF(OR($A40="",_Engine!$D$45=0),"",INDEX(_Engine!$E98:$X98,1,(_Engine!$J$45-1)*4+3))
...

Sheet About & Assumptions
B2: About this workbook
B4: WHAT THIS WORKBOOK DOES
B5: It answers both questions of the Debt Payoff Calculator offline, for up to five debts you already have: when will you be debt-free and what will it cost you, and how much do you need to pay each month to be debt-free in a set number of years. It shows the date, interest and total for each debt, what paying only the minimum would cost, a month-by-month table and a chart.
B8: WHAT IT DOES NOT DO
B9: Ways to get there sooner | C9: Side-by-side ideas, such as a little more each month or a one-time amount: on the site.
B10: Moving a finished debt's payment | C10: What happens if a finished debt's payment moves on to the next one, in both orders: on the site.
B11: Country detection | C11: The site suggests your currency: here you type it.
B12: The deeper insights | C12: "Show me what else my numbers reveal": on the site.
B13: The Bigger Picture and the FAQ | C13: The guide to what the numbers mean: on the site.
B14: Fees | C14: Annual, late or balance transfer fees are not included unless you add them to what you owe, as on the site.
B15: It is not financial advice | C15: It does not name or recommend a lender, a card or a plan.
B17: Open the full calculator online ↗
B19: ASSUMPTIONS USED
B20: Interest | C20: The yearly rate ÷ 12, charged each month on what you still owe. Rates stay the same the whole time.
B21: Payments | C21: One payment at the end of every month, from the first payment month you type. Nothing new goes on these debts.
B22: Several debts | C22: Each debt is paid with its own monthly payment. When a debt is gone, its payment does not move to another debt.
B23: Extra money | C23: The extra each month, and the one-time amount, go to the debt with the highest rate first, then to the next one. With equal rates, the smaller debt comes first.
B24: Question 2 | C24: Each debt gets the monthly payment that clears it in the years you choose: the standard loan formula, rounded up to a whole amount.
B25: Minimum only | C25: Each month 1% of the balance plus that month's interest, at least the smallest minimum you type, or the full balance if smaller. No extra.
B26: Not yet | C26: If a debt's payment is not more than its interest, the debt never goes down, and the answer says so.
B27: Longest look-ahead | C27: 1,200 months (100 years). After that the answer is 'Not yet'.
B28: The first payment month | C28: An example you can change. The file never reads today's date.
B30: THE WORKBOOK
B31: Site | C31: needtheseapps.com
B32: Sheets | C32: Calculator · Breakdown · About & Assumptions
B33: Version | C33: 1.0
B34: Generated | C34: Oct 13, 2026
B35: Currency | C35: ="Shown in "&Calculator!$C$8&", which you set on the Calculator sheet."
B37: This file is a snapshot. It does not update itself when the online calculator changes.

Sheet _Engine
A1: Helper calculations. Do not edit.
A2: Debts entered | B2: =SUM(D41:D45)
A3: Debts missing a rate or a payment | B3: =SUM(K41:K45)
A4: (spare) | B4: =0
A5: First payment month (first day) | B5: =DATE(YEAR(Calculator!$C$15),MONTH(Calculator!$C$15),1)
A6: Extra each month | B6: =N(Calculator!$C$19)
A7: One-time extra payment | B7: =N(Calculator!$C$20)
A8: One-time: payment number | B8: =N(Calculator!$C$21)
A9: Smallest minimum payment | B9: =N(Calculator!$C$22)
A10: Q2: years | B10: =N(Calculator!$C$36)
A11: Q2: months | B11: =MAX(1,B10)*12
A12: Total owed | B12: =SUM(F41:F45)
A13: Total you pay now each month | B13: =SUM(H41:H45)
A14: Q1: some debt never ends (1/0) | B14: =IF(COUNTIF(I51:I55,-1)>0,1,0)
A15: Q1: payments until debt-free | B15: =MAX(I51:I55)
A16: Q1: interest | B16: =SUM(J51:J55)
A17: Q1: total you pay | B17: =B12+B16
A18: Q1: debt-free month | B18: =EDATE(B5,MAX(B15,1)-1)
A19: Q1: duration in words | B19: =IF(INT(B15/12)>0,INT(B15/12)&IF(INT(B15/12)=1," year"," years"),"")&IF(AND(INT(B15/12)>0,MOD(B15,12)>0)," and ","")&IF(MOD(B15,12)>0,MOD(B15,12)&IF(MOD(B15,12)=1," month"," months"),"")
A20: State: 0 nothing, 1 missing, 2 answer, 3 not yet | B20: =IF(B2=0,0,IF(B3>0,1,IF(B14=1,3,2)))
A21: Not yet: which debt | B21: =IFERROR(INDEX(E51:E55,MATCH(-1,I51:I55,0)),1)
A22: Not yet: its name | B22: =INDEX(E41:E45,B21)
A23: Not yet: its payment | B23: =INDEX(H41:H45,B21)
A24: Not yet: its first interest | B24: =INDEX(S41:S45,B21)
A25: Minimums: some debt over 100 years (1/0) | B25: =IF(COUNTIF(L51:L55,-1)>0,1,0)
A26: Minimums: months | B26: =MAX(L51:L55)
A27: Minimums: interest | B27: =SUM(M51:M55)
A28: Minimums: duration in words | B28: =IF(INT(B26/12)>0,INT(B26/12)&IF(INT(B26/12)=1," year"," years"),"")&IF(AND(INT(B26/12)>0,MOD(B26,12)>0)," and ","")&IF(MOD(B26,12)>0,MOD(B26,12)&IF(MOD(B26,12)=1," month"," months"),"")
A29: Q2: monthly total | B29: =SUM(O41:O45)
A30: Q2: interest | B30: =SUM(R41:R45)
A31: Q2: total you pay | B31: =SUM(Q41:Q45)
A32: Q2: last payment number | B32: =MAX(P41:P45)
A33: Q2: debt-free month | B33: =EDATE(B5,MAX(B32,1)-1)
A34: Q2: more (+) or less (-) than now | B34: =B29-B13
A35: Chart: number of points | B35: =IF(B20<2,1,IF(B14=1,121,B15+1))
A36: Breakdown: rows shown | B36: =IF(B20<2,0,IF(B14=1,1200,B15))
C40: i | D40: Used | E40: Name | F40: Owed | G40: Rate % | H40: Pay | I40: Monthly rate | J40: Order (rank) | K40: Missing | L40: Q1 done | M40: Q1 interest | N40: Q1 total | O40: Q2 pay | P40: Q2 months | Q40: Q2 total | R40: Q2 interest | S40: First interest | T40: Min months | U40: Min interest
C41: 1 | D41: =IF(AND(ISNUMBER(Calculator!$C$10),N(Calculator!$C$10)>0),1,0) | E41: =IF(TRIM(Calculator!$B$10&"")="","Debt 1",Calculator!$B$10&"") | F41: =IF(D41=1,Calculator!$C$10,0) | G41: =IF(D41=1,N(Calculator!$D$10),0) | H41: =IF(D41=1,N(Calculator!$E$10),0) | I41: =G41/1200 | J41: =IF(D41=1,1+SUMPRODUCT($D$41:$D$45*(($G$41:$G$45>G41)+($G$41:$G$45=G41)*($F$41:$F$45<F41)+($G$41:$G$45=G41)*($F$41:$F$45=F41)*($C$41:$C$45<C41))),$B$2+SUMPRODUCT(($D$41:$D$45=0)*($C$41:$C$45<=C41))) | K41: =IF(AND(D41=1,OR(NOT(ISNUMBER(Calculator!$D$10)),NOT(ISNUMBER(Calculator!$E$10)))),1,0) | L41: =IF(D41=1,INDEX($I$51:$I$55,J41),"") | M41: =IF(D41=1,INDEX($J$51:$J$55,J41),"") | N41: =IF(D41=1,F41+M41,"") | O41: =IF(D41=1,IF(I41=0,ROUNDUP(F41/$B$11-1E-9,0),ROUNDUP(PMT(I41,$B$11,-F41)-1E-9,0)),"") | P41: =IF(D41=1,IF(I41=0,ROUNDUP(F41/O41-1E-9,0),ROUNDUP(NPER(I41,-O41,F41)-1E-9,0)),"") | Q41: =IF(D41=1,IF(I41=0,F41,O41*(P41-1)+FV(I41,P41-1,O41,-F41)*(1+I41)),"") | R41: =IF(D41=1,Q41-F41,"") | S41: =F41*I41 | T41: =IF(D41=1,INDEX($L$51:$L$55,J41),"") | U41: =IF(D41=1,INDEX($M$51:$M$55,J41),"")
C42: 2 | D42: =IF(AND(ISNUMBER(Calculator!$C$11),N(Calculator!$C$11)>0),1,0) | E42: =IF(TRIM(Calculator!$B$11&"")="","Debt 2",Calculator!$B$11&"") | F42: =IF(D42=1,Calculator!$C$11,0) | G42: =IF(D42=1,N(Calculator!$D$11),0) | H42: =IF(D42=1,N(Calculator!$E$11),0) | I42: =G42/1200 | J42: =IF(D42=1,1+SUMPRODUCT($D$41:$D$45*(($G$41:$G$45>G42)+($G$41:$G$45=G42)*($F$41:$F$45<F42)+($G$41:$G$45=G42)*($F$41:$F$45=F42)*($C$41:$C$45<C42))),$B$2+SUMPRODUCT(($D$41:$D$45=0)*($C$41:$C$45<=C42))) | K42: =IF(AND(D42=1,OR(NOT(ISNUMBER(Calculator!$D$11)),NOT(ISNUMBER(Calculator!$E$11)))),1,0) | L42: =IF(D42=1,INDEX($I$51:$I$55,J42),"") | M42: =IF(D42=1,INDEX($J$51:$J$55,J42),"") | N42: =IF(D42=1,F42+M42,"") | O42: =IF(D42=1,IF(I42=0,ROUNDUP(F42/$B$11-1E-9,0),ROUNDUP(PMT(I42,$B$11,-F42)-1E-9,0)),"") | P42: =IF(D42=1,IF(I42=0,ROUNDUP(F42/O42-1E-9,0),ROUNDUP(NPER(I42,-O42,F42)-1E-9,0)),"") | Q42: =IF(D42=1,IF(I42=0,F42,O42*(P42-1)+FV(I42,P42-1,O42,-F42)*(1+I42)),"") | R42: =IF(D42=1,Q42-F42,"") | S42: =F42*I42 | T42: =IF(D42=1,INDEX($L$51:$L$55,J42),"") | U42: =IF(D42=1,INDEX($M$51:$M$55,J42),"")
C43: 3 | D43: =IF(AND(ISNUMBER(Calculator!$C$12),N(Calculator!$C$12)>0),1,0) | E43: =IF(TRIM(Calculator!$B$12&"")="","Debt 3",Calculator!$B$12&"") | F43: =IF(D43=1,Calculator!$C$12,0) | G43: =IF(D43=1,N(Calculator!$D$12),0) | H43: =IF(D43=1,N(Calculator!$E$12),0) | I43: =G43/1200 | J43: =IF(D43=1,1+SUMPRODUCT($D$41:$D$45*(($G$41:$G$45>G43)+($G$41:$G$45=G43)*($F$41:$F$45<F43)+($G$41:$G$45=G43)*($F$41:$F$45=F43)*($C$41:$C$45<C43))),$B$2+SUMPRODUCT(($D$41:$D$45=0)*($C$41:$C$45<=C43))) | K43: =IF(AND(D43=1,OR(NOT(ISNUMBER(Calculator!$D$12)),NOT(ISNUMBER(Calculator!$E$12)))),1,0) | L43: =IF(D43=1,INDEX($I$51:$I$55,J43),"") | M43: =IF(D43=1,INDEX($J$51:$J$55,J43),"") | N43: =IF(D43=1,F43+M43,"") | O43: =IF(D43=1,IF(I43=0,ROUNDUP(F43/$B$11-1E-9,0),ROUNDUP(PMT(I43,$B$11,-F43)-1E-9,0)),"") | P43: =IF(D43=1,IF(I43=0,ROUNDUP(F43/O43-1E-9,0),ROUNDUP(NPER(I43,-O43,F43)-1E-9,0)),"") | Q43: =IF(D43=1,IF(I43=0,F43,O43*(P43-1)+FV(I43,P43-1,O43,-F43)*(1+I43)),"") | R43: =IF(D43=1,Q43-F43,"") | S43: =F43*I43 | T43: =IF(D43=1,INDEX($L$51:$L$55,J43),"") | U43: =IF(D43=1,INDEX($M$51:$M$55,J43),"")
...
